BEGIN:VCALENDAR
VERSION:2.0
PRODID:-//The Claddagh - ECPv5.3.2.1//NONSGML v1.0//EN
CALSCALE:GREGORIAN
METHOD:PUBLISH
X-WR-CALNAME:The Claddagh
X-ORIGINAL-URL:https://claddagh.org.au
X-WR-CALDESC:Events for The Claddagh
BEGIN:VTIMEZONE
TZID:UTC
BEGIN:STANDARD
TZOFFSETFROM:+0000
TZOFFSETTO:+0000
TZNAME:UTC
DTSTART:20190101T000000
END:STANDARD
END:VTIMEZONE
BEGIN:VEVENT
DTSTART;TZID=UTC:20190511T053000
DTEND;TZID=UTC:20190511T170000
DTSTAMP:20210301T073506
CREATED:20190227T100440Z
LAST-MODIFIED:20190227T100440Z
UID:1529-1557552600-1557594000@claddagh.org.au
SUMMARY:Darkness Into Light
DESCRIPTION:Last year 1\,313 people attended the Perth event and raised $73\,520.\nPieta House is committed to working with local charities in the area of mental health and well-being. We will update you once the charity partner is confirmed for this venue.
URL:https://claddagh.org.au/event/darkness-into-light/
END:VEVENT
END:VCALENDAR