BEGIN:VCALENDAR
VERSION:2.0
PRODID:-//The Claddagh - ECPv5.3.2.1//NONSGML v1.0//EN
CALSCALE:GREGORIAN
METHOD:PUBLISH
X-WR-CALNAME:The Claddagh
X-ORIGINAL-URL:https://claddagh.org.au
X-WR-CALDESC:Events for The Claddagh
BEGIN:VTIMEZONE
TZID:UTC
BEGIN:STANDARD
TZOFFSETFROM:+0000
TZOFFSETTO:+0000
TZNAME:UTC
DTSTART:20180101T000000
END:STANDARD
END:VTIMEZONE
BEGIN:VEVENT
DTSTART;TZID=UTC:20180609T100000
DTEND;TZID=UTC:20180609T140000
DTSTAMP:20210301T074634
CREATED:20180519T050118Z
LAST-MODIFIED:20180519T050118Z
UID:1520-1528538400-1528552800@claddagh.org.au
SUMMARY:Temporary Residents Support Seminar
DESCRIPTION:
URL:https://claddagh.org.au/event/temporary-residents-support-seminar/
LOCATION:The Irish Club\, 61 Townshed Street\, Subiaco\, Australia
ORGANIZER;CN="The%20Claddagh%20Association":MAILTO:info@claddagh.org.au
END:VEVENT
END:VCALENDAR