BEGIN:VCALENDAR
VERSION:2.0
PRODID:-//The Claddagh - ECPv5.3.2.1//NONSGML v1.0//EN
CALSCALE:GREGORIAN
METHOD:PUBLISH
X-WR-CALNAME:The Claddagh
X-ORIGINAL-URL:https://claddagh.org.au
X-WR-CALDESC:Events for The Claddagh
BEGIN:VTIMEZONE
TZID:UTC
BEGIN:STANDARD
TZOFFSETFROM:+0000
TZOFFSETTO:+0000
TZNAME:UTC
DTSTART:20180101T000000
END:STANDARD
END:VTIMEZONE
BEGIN:VEVENT
DTSTART;TZID=UTC:20180514T100000
DTEND;TZID=UTC:20180514T143000
DTSTAMP:20210301T075404
CREATED:20180425T055743Z
LAST-MODIFIED:20180425T055909Z
UID:1488-1526292000-1526308200@claddagh.org.au
SUMMARY:Seniors Event Bus Trip to the Casino
DESCRIPTION:
URL:https://claddagh.org.au/event/seniors-event-bus-trip-casino/
LOCATION:The Crown Casino
ATTACH;FMTTYPE=image/jpeg:https://claddagh.org.au/wp-content/uploads/2018/04/Casino-BusTrip.jpg
ORGANIZER;CN="The%20Claddagh%20Association":MAILTO:info@claddagh.org.au
END:VEVENT
END:VCALENDAR