BEGIN:VCALENDAR
VERSION:2.0
PRODID:-//The Claddagh - ECPv5.3.2.1//NONSGML v1.0//EN
CALSCALE:GREGORIAN
METHOD:PUBLISH
X-WR-CALNAME:The Claddagh
X-ORIGINAL-URL:https://claddagh.org.au
X-WR-CALDESC:Events for The Claddagh
BEGIN:VTIMEZONE
TZID:UTC
BEGIN:STANDARD
TZOFFSETFROM:+0000
TZOFFSETTO:+0000
TZNAME:UTC
DTSTART:20180101T000000
END:STANDARD
END:VTIMEZONE
BEGIN:VEVENT
DTSTART;TZID=UTC:20180428T100000
DTEND;TZID=UTC:20180428T120000
DTSTAMP:20210301T075941
CREATED:20180429T041724Z
LAST-MODIFIED:20180429T041724Z
UID:1499-1524909600-1524916800@claddagh.org.au
SUMMARY:Claddagh Volunteer Induction
DESCRIPTION:The first Claddagh Volunteers Induction of 2018 will be held in our office in Malaga on 28 April 2018. \nIf you want to join us in a volunteer capacity please register your interest by contacting the office\, admin@claddagh.org.au \nWe will hold additional inductions later in the year if you miss out on this one.
URL:https://claddagh.org.au/event/claddagh-volunteer-induction/
LOCATION:Claddagh Office\, 13/15 Bonner Drive\, Malaga\, WA\, 6090\, Australia
END:VEVENT
END:VCALENDAR