BEGIN:VCALENDAR
VERSION:2.0
PRODID:-//The Claddagh - ECPv5.3.2.1//NONSGML v1.0//EN
CALSCALE:GREGORIAN
METHOD:PUBLISH
X-WR-CALNAME:The Claddagh
X-ORIGINAL-URL:https://claddagh.org.au
X-WR-CALDESC:Events for The Claddagh
BEGIN:VTIMEZONE
TZID:UTC
BEGIN:STANDARD
TZOFFSETFROM:+0000
TZOFFSETTO:+0000
TZNAME:UTC
DTSTART:20180101T000000
END:STANDARD
END:VTIMEZONE
BEGIN:VEVENT
DTSTART;TZID=UTC:20180421T190000
DTEND;TZID=UTC:20180421T230000
DTSTAMP:20210301T075905
CREATED:20180307T024728Z
LAST-MODIFIED:20180307T025350Z
UID:1444-1524337200-1524351600@claddagh.org.au
SUMMARY:Irish Community Night Saturday 21st April 2018
DESCRIPTION:Join the team of Irish Families In Perth for their Irish Community Night in Avoka Woodvale. Proceeds in aid of Shamrock Rovers underage squad. \n 
URL:https://claddagh.org.au/event/irish-community-night-saturday-21st-april-2018/
LOCATION:Woodvale Tavern\, 143 Trappers Dr\, Woodvale \, WA\, 6026\, Australia
END:VEVENT
END:VCALENDAR