BEGIN:VCALENDAR
VERSION:2.0
PRODID:-//The Claddagh - ECPv5.3.2.1//NONSGML v1.0//EN
CALSCALE:GREGORIAN
METHOD:PUBLISH
X-WR-CALNAME:The Claddagh
X-ORIGINAL-URL:https://claddagh.org.au
X-WR-CALDESC:Events for The Claddagh
BEGIN:VTIMEZONE
TZID:UTC
BEGIN:STANDARD
TZOFFSETFROM:+0000
TZOFFSETTO:+0000
TZNAME:UTC
DTSTART:20180101T000000
END:STANDARD
END:VTIMEZONE
BEGIN:VEVENT
DTSTART;TZID=UTC:20180409T093000
DTEND;TZID=UTC:20180409T150000
DTSTAMP:20210301T075826
CREATED:20180321T043746Z
LAST-MODIFIED:20180321T045922Z
UID:1472-1523266200-1523286000@claddagh.org.au
SUMMARY:Seniors Picnic at Moore River
DESCRIPTION:
URL:https://claddagh.org.au/event/seniors-picnic-moore-river/
ATTACH;FMTTYPE=image/jpeg:https://claddagh.org.au/wp-content/uploads/2018/03/Picnic-Moore-River1.jpg
END:VEVENT
END:VCALENDAR