BEGIN:VCALENDAR
VERSION:2.0
PRODID:-//The Claddagh - ECPv5.3.2.1//NONSGML v1.0//EN
CALSCALE:GREGORIAN
METHOD:PUBLISH
X-WR-CALNAME:The Claddagh
X-ORIGINAL-URL:https://claddagh.org.au
X-WR-CALDESC:Events for The Claddagh
BEGIN:VTIMEZONE
TZID:UTC
BEGIN:STANDARD
TZOFFSETFROM:+0000
TZOFFSETTO:+0000
TZNAME:UTC
DTSTART:20160101T000000
END:STANDARD
END:VTIMEZONE
BEGIN:VEVENT
DTSTART;TZID=UTC:20160304T190000
DTEND;TZID=UTC:20160304T234500
DTSTAMP:20210301T072631
CREATED:20160129T060046Z
LAST-MODIFIED:20160129T060046Z
UID:717-1457118000-1457135100@claddagh.org.au
SUMMARY:White Collar Boxing - St Patricks Day WA
DESCRIPTION:The White Collar Boxing by Ringside Boxing & Fitness is back in 2016! After a one year hiatus\, this hugely popular event is back as a prelude and fundraiser to the St Patrick’s Festival on Sunday March 13th. \nIf you are interested in fighting on the night\, please get in touch with Donna via email at poosiecat@hotmail.com \n 
URL:https://claddagh.org.au/event/white-collar-boxing-st-patricks-day-wa/
LOCATION:The WA Italian Club\, 217-225 Fitzgerald St\, Northbridge\, WA\, 6000\, Australia
ORGANIZER;CN="Ringside%20Boxing%20%26%20Fitness":MAILTO:poosiecat@hotmail.com
END:VEVENT
END:VCALENDAR