BEGIN:VCALENDAR
VERSION:2.0
PRODID:-//The Claddagh - ECPv5.3.2.1//NONSGML v1.0//EN
CALSCALE:GREGORIAN
METHOD:PUBLISH
X-WR-CALNAME:The Claddagh
X-ORIGINAL-URL:https://claddagh.org.au
X-WR-CALDESC:Events for The Claddagh
BEGIN:VTIMEZONE
TZID:UTC
BEGIN:STANDARD
TZOFFSETFROM:+0000
TZOFFSETTO:+0000
TZNAME:UTC
DTSTART:20160101T000000
END:STANDARD
END:VTIMEZONE
BEGIN:VEVENT
DTSTART;TZID=UTC:20160313T100000
DTEND;TZID=UTC:20160313T113000
DTSTAMP:20210301T071259
CREATED:20160128T113125Z
LAST-MODIFIED:20160128T115436Z
UID:668-1457863200-1457868600@claddagh.org.au
SUMMARY:St Patrick's Day Parade
DESCRIPTION:The parade is on from 10am until 11.30am\, after that the free family fun day starts on Leederville Oval until 5pm.
URL:https://claddagh.org.au/event/st-patricks-day-parade/
LOCATION:St Patrick’s Day Parade\, Oxford Street\, Leederville\, WA\, 6007\, Australia
ORGANIZER;CN="ST%20Patricks%20Festival%20of%20WA":MAILTO:info@stpatricksfestivalwa.com
END:VEVENT
END:VCALENDAR