BEGIN:VCALENDAR
VERSION:2.0
PRODID:-//The Claddagh - ECPv5.3.2.1//NONSGML v1.0//EN
CALSCALE:GREGORIAN
METHOD:PUBLISH
X-WR-CALNAME:The Claddagh
X-ORIGINAL-URL:https://claddagh.org.au
X-WR-CALDESC:Events for The Claddagh
BEGIN:VTIMEZONE
TZID:UTC
BEGIN:STANDARD
TZOFFSETFROM:+0000
TZOFFSETTO:+0000
TZNAME:UTC
DTSTART:20160101T000000
END:STANDARD
END:VTIMEZONE
BEGIN:VEVENT
DTSTART;TZID=UTC:20160219T180000
DTEND;TZID=UTC:20160219T210000
DTSTAMP:20210301T072447
CREATED:20160129T032902Z
LAST-MODIFIED:20160129T032902Z
UID:698-1455904800-1455915600@claddagh.org.au
SUMMARY:Ladies Night Out Northern Suburbs - Woodvale Tavern
DESCRIPTION:Ladies Night Out in the Woodvale Tavern on Friday 19th February 2016 \nRaffle proceeds on the night will go to the Claddagh Association. \nThe night includes….. \nChampagne on arrival\, \nShopping – vast array of stalls\, \nReflexology\, \nNeck/Shoulder Massages\, Psychics\, Delicious Bar Food available\, Full Bar\, DJ afterwards & taxis outside venue!!! \nOnly $7pp includes glass of champagne on arrival.
URL:https://claddagh.org.au/event/ladies-night-out-northern-suburbs-woodvale-tavern/
LOCATION:Woodvale Tavern\, 143 Trappers Dr\, Woodvale \, WA\, 6026\, Australia
ORGANIZER;CN="Irish%20Families%20in%20Perth%20%2F%20Ladies%20Night%20Northern%20Suburbs":MAILTO:irishinperth@hotmail.com
END:VEVENT
END:VCALENDAR