BEGIN:VCALENDAR
VERSION:2.0
PRODID:-//The Claddagh - ECPv5.3.2.1//NONSGML v1.0//EN
CALSCALE:GREGORIAN
METHOD:PUBLISH
X-WR-CALNAME:The Claddagh
X-ORIGINAL-URL:https://claddagh.org.au
X-WR-CALDESC:Events for The Claddagh
BEGIN:VTIMEZONE
TZID:UTC
BEGIN:STANDARD
TZOFFSETFROM:+0000
TZOFFSETTO:+0000
TZNAME:UTC
DTSTART:20160101T000000
END:STANDARD
END:VTIMEZONE
BEGIN:VEVENT
DTSTART;TZID=UTC:20160218T180000
DTEND;TZID=UTC:20160218T200000
DTSTAMP:20210301T072408
CREATED:20160202T051503Z
LAST-MODIFIED:20160202T051503Z
UID:721-1455818400-1455825600@claddagh.org.au
SUMMARY:Ireland - Western Australia Forum - Sundowner
DESCRIPTION:The Ireland-Western Australia Forum is having another network evening this February that will provide an opportunity for several developing companies to deliver a 2 minute pitch to the audience to promote their business. \nThe businesses presenting on the night include: \nAll Force Labour Solutions\nMcDonald Surveys\nOHMS Hygiene\nYour Legal HQ \nFood (beef sliders) will be served during the event. \nTickets to this networking event are strictly limited so be quick. Our last event sold out well in advance and this is likely to do the same.
URL:https://claddagh.org.au/event/ireland-western-australia-forum-sundowner/
LOCATION:Terrace Hotel (Rear Outdoor Terrace)\, 237 St Georges Terrace \, Perth\, WA\, 6000\, Australia
END:VEVENT
END:VCALENDAR