BEGIN:VCALENDAR
VERSION:2.0
PRODID:-//The Claddagh - ECPv5.3.2.1//NONSGML v1.0//EN
CALSCALE:GREGORIAN
METHOD:PUBLISH
X-WR-CALNAME:The Claddagh
X-ORIGINAL-URL:https://claddagh.org.au
X-WR-CALDESC:Events for The Claddagh
BEGIN:VTIMEZONE
TZID:UTC
BEGIN:STANDARD
TZOFFSETFROM:+0000
TZOFFSETTO:+0000
TZNAME:UTC
DTSTART:20160101T000000
END:STANDARD
END:VTIMEZONE
BEGIN:VEVENT
DTSTART;TZID=UTC:20160227T193000
DTEND;TZID=UTC:20160227T223000
DTSTAMP:20210301T072310
CREATED:20160129T035255Z
LAST-MODIFIED:20160129T035255Z
UID:711-1456601400-1456612200@claddagh.org.au
SUMMARY:Declan O'Rourke
DESCRIPTION:Declan O’Rourke (Declán O’Ruairc) Vocal & Guitar \n\nDeclan is a singer-songwriter from Dublin\, Ireland. His family spent several years in Australia during his youth. It was during their time in Kyabram that the young O’Rourke was given his first guitar\, by a priest who recognized his potential and love for music. Hence the title of his debut album Since Kyabram\, released in October 2004. The album’s launch sold-out 3 nights in Whelan’s\, Dublin and was broadcast live on national radio.Since Kyabram entered the official Irish album charts at Number 5\, quickly went gold\, then achieved double-platinum status. Since then\, O’Rourke has completed multiple sell-out nationwide Irish tours\, the second of these culminating in a full capacity show in Dublin’s Olympia Theatre in March 2005. \n\nhttp://www.declanorourke.com/
URL:https://claddagh.org.au/event/declan-orourke/
LOCATION:Fly by Night Musicians Club\, ICTORIA HALL BUILDING\,  179 High Street\, Fremantle\, WA\, 6160\, Australia
END:VEVENT
END:VCALENDAR