BEGIN:VCALENDAR
VERSION:2.0
PRODID:-//The Claddagh - ECPv5.3.2.1//NONSGML v1.0//EN
CALSCALE:GREGORIAN
METHOD:PUBLISH
X-WR-CALNAME:The Claddagh
X-ORIGINAL-URL:https://claddagh.org.au
X-WR-CALDESC:Events for The Claddagh
BEGIN:VTIMEZONE
TZID:UTC
BEGIN:STANDARD
TZOFFSETFROM:+0000
TZOFFSETTO:+0000
TZNAME:UTC
DTSTART:20150101T000000
END:STANDARD
END:VTIMEZONE
BEGIN:VEVENT
DTSTART;TZID=UTC:20150728T113000
DTEND;TZID=UTC:20150728T143000
DTSTAMP:20210301T072715
CREATED:20150722T074322Z
LAST-MODIFIED:20150727T110225Z
UID:15-1438083000-1438093800@claddagh.org.au
SUMMARY:Christmas in July
DESCRIPTION:
URL:https://claddagh.org.au/event/christmas-in-july/
LOCATION:The Mighty Quinn Tavern\, 112 Wanneroo Road\, Tuart Hill\, WA\, 6060\, Australia
ORGANIZER;CN="The%20Claddagh%20Association":MAILTO:info@claddagh.org.au
END:VEVENT
END:VCALENDAR