BEGIN:VCALENDAR
VERSION:2.0
PRODID:-//The Claddagh - ECPv5.3.2.1//NONSGML v1.0//EN
CALSCALE:GREGORIAN
METHOD:PUBLISH
X-WR-CALNAME:The Claddagh
X-ORIGINAL-URL:https://claddagh.org.au
X-WR-CALDESC:Events for The Claddagh
BEGIN:VTIMEZONE
TZID:UTC
BEGIN:STANDARD
TZOFFSETFROM:+0000
TZOFFSETTO:+0000
TZNAME:UTC
DTSTART:20160101T000000
END:STANDARD
END:VTIMEZONE
BEGIN:VEVENT
DTSTART;TZID=UTC:20160210T194500
DTEND;TZID=UTC:20160210T220000
DTSTAMP:20210301T071804
CREATED:20160129T022459Z
LAST-MODIFIED:20160129T022459Z
UID:689-1455133500-1455141600@claddagh.org.au
SUMMARY:AIHA Film Club - The Race
DESCRIPTION:The Australian Irish Heritage Association are running an outdoor Irish Film Festival for the month of February. \nFilms will be screened on a fifteen foot screen in a beautiful garden \nsetting\, located at the home of Tony and Cecilia Bray at 8 Fourth Avenue\,\nKensington. A short supporting film will precede the main film each night.\nTea\, coffee and cakes will be served during the evening.\nEnquires to Tony Bray at 9367 6026 \nEntry donation $10 \n 
URL:https://claddagh.org.au/event/aiha-film-club-the-race/
LOCATION:Tony & Cecilia Bray\, 8 Foruth Avenue\, Kensington\, WA\, 6151\, Australia
ORGANIZER;CN="AIHA":MAILTO:www.irishheritage.net
END:VEVENT
END:VCALENDAR